BEGIN:VCALENDAR
VERSION:2.0
PRODID:-//Kurhaus - ECPv6.5.0//NONSGML v1.0//EN
CALSCALE:GREGORIAN
METHOD:PUBLISH
X-ORIGINAL-URL:https://altes-kurhaus-aachen.de
X-WR-CALDESC:Veranstaltungen für Kurhaus
REFRESH-INTERVAL;VALUE=DURATION:PT1H
X-Robots-Tag:noindex
X-PUBLISHED-TTL:PT1H
BEGIN:VTIMEZONE
TZID:Europe/Helsinki
BEGIN:DAYLIGHT
TZOFFSETFROM:+0200
TZOFFSETTO:+0300
TZNAME:EEST
DTSTART:20170326T010000
END:DAYLIGHT
BEGIN:STANDARD
TZOFFSETFROM:+0300
TZOFFSETTO:+0200
TZNAME:EET
DTSTART:20171029T010000
END:STANDARD
BEGIN:DAYLIGHT
TZOFFSETFROM:+0200
TZOFFSETTO:+0300
TZNAME:EEST
DTSTART:20180325T010000
END:DAYLIGHT
BEGIN:STANDARD
TZOFFSETFROM:+0300
TZOFFSETTO:+0200
TZNAME:EET
DTSTART:20181028T010000
END:STANDARD
BEGIN:DAYLIGHT
TZOFFSETFROM:+0200
TZOFFSETTO:+0300
TZNAME:EEST
DTSTART:20190331T010000
END:DAYLIGHT
BEGIN:STANDARD
TZOFFSETFROM:+0300
TZOFFSETTO:+0200
TZNAME:EET
DTSTART:20191027T010000
END:STANDARD
BEGIN:DAYLIGHT
TZOFFSETFROM:+0200
TZOFFSETTO:+0300
TZNAME:EEST
DTSTART:20200329T010000
END:DAYLIGHT
BEGIN:STANDARD
TZOFFSETFROM:+0300
TZOFFSETTO:+0200
TZNAME:EET
DTSTART:20201025T010000
END:STANDARD
END:VTIMEZONE
BEGIN:VEVENT
DTSTART;TZID=Europe/Helsinki:20200927T193000
DTEND;TZID=Europe/Helsinki:20200927T193000
DTSTAMP:20260421T162753
CREATED:20200730T074352Z
LAST-MODIFIED:20200730T094245Z
UID:10027071-1601235000-1601235000@altes-kurhaus-aachen.de
SUMMARY:Sinfonische Kammermusik zum 250. Geburtstag von Ludwig van Beethoven
DESCRIPTION:Zum 250. Geburtstag von Ludwig van Beethoven findet ein Festkonzert in Kooperation zwischen dem Orchesterzentrum NRW und dem MozARTe e.V. mit Werken von Luigi Boccherini und dem monumentalen Septett für Streicher und Bläser von Ludwig van Beethoven statt. Das Orchesterzentrum NRW steht unter der Leitung des international renommierten Cellisten Prof. Alexander Hülshoff und besteht aus Studierenden der vier Musikhochschulen des Landes NRW. Solist des Abends ist der international bekannte Gitarrist und künstlerischer Leiter der Accordate-Konzertreihe Prof. Hans-Werner Huppertz von der Musikhochschule Aachen. \nKarten: info@mozarte-aachen.com \nFoto: Veranstalter
URL:https://altes-kurhaus-aachen.de/veranstaltung/mozarte-2017-finalgala-2-2-2/
LOCATION:Ballsaal\, Komphausbadstr. 19\, Aachen\, NRW\, 52062\, Deutschland
CATEGORIES:Konzert
ORGANIZER;CN="MozArte e.V.":MAILTO:info@mozarte-aachen.com
END:VEVENT
BEGIN:VEVENT
DTSTART;TZID=Europe/Helsinki:20200911T193000
DTEND;TZID=Europe/Helsinki:20200911T193000
DTSTAMP:20260421T162753
CREATED:20200731T065744Z
LAST-MODIFIED:20200731T065744Z
UID:10027072-1599852600-1599852600@altes-kurhaus-aachen.de
SUMMARY:Finalgala des MozArte Piano Competition Aachen 2020
DESCRIPTION:Orchesterkonzert mit den Finalisten und dem MozArte Festival Strings \nIn diesem Jahr wird zum 16. Mal das MozARTe Festival & Piano Competition Aachen\, welches von zahlreichen Sponsoren und Freunden unterstützt wird\, vom 05. bis zum 11. September ausgetragen. Neben klangvollen Konzerten von international gefeierten Musikern ist auch die Ausstellung von renommierten Künstlern der bildenden Kunst ein wichtiger Bestandteil. Das Highlight bildet das Orchetserfinale des Wettbewerbs mit Klavierkonzerten von W.A. Mozart und F. Chopin. 50 junge Pianisten und Pianistinnen präsentieren sich in 3 Runden einer hochkarätigen internationalen Jury\, um in das Finale zu kommen. Die aus den letzten Jahren hervorgegangenen Preisträger des MozARTe International Piano Competition sind inzwischen Preisträger der bedeutendsten internationalen Klavierwettbewerbe wie z.B. dem Busoni Wettbewerb\, dem Internationalen Klavierwettbewerb in Leeds oder dem ARD Wettbewerb in München. \nZum ersten Mal werden in diesem Jahr auch Nachwuchskünstler im Alter von 10 bis 18 Jahren konkurrieren. \nKarten für das Finale können bei den bekannten Vorverkaufsstellen erworben werden. Alle anderen Veranstaltungen haben freien Eintritt \nKarten: info@mozarte-aachen.com \nFoto: Veranstalter
URL:https://altes-kurhaus-aachen.de/veranstaltung/mozarte-2017-finalgala-2-2-2-2/
LOCATION:Ballsaal\, Komphausbadstr. 19\, Aachen\, NRW\, 52062\, Deutschland
CATEGORIES:Konzert
ORGANIZER;CN="MozArte e.V.":MAILTO:info@mozarte-aachen.com
END:VEVENT
BEGIN:VEVENT
DTSTART;TZID=Europe/Helsinki:20190913T193000
DTEND;TZID=Europe/Helsinki:20190913T193000
DTSTAMP:20260421T162753
CREATED:20190611T075115Z
LAST-MODIFIED:20190611T075115Z
UID:10050375-1568403000-1568403000@altes-kurhaus-aachen.de
SUMMARY:Finalgala MozARTe 2019 - International Piano Competition Aachen
DESCRIPTION:Mit Klavierkonzerten von W. A. Mozart gestalten die diesjährigen Finalisten des hochdotierten 15. „International Piano Competition Aachen MozARTe“ zusammen mit den MozARTe Festival Strings das große Galakonzert (im Anschluss Preisverleihung). \nFoto: Veranstalter
URL:https://altes-kurhaus-aachen.de/veranstaltung/mozarte-2017-finalgala-2-2/
LOCATION:Ballsaal\, Komphausbadstr. 19\, Aachen\, NRW\, 52062\, Deutschland
CATEGORIES:Konzert
ORGANIZER;CN="MozArte e.V.":MAILTO:info@mozarte-aachen.com
END:VEVENT
BEGIN:VEVENT
DTSTART;TZID=Europe/Helsinki:20180914T193000
DTEND;TZID=Europe/Helsinki:20180914T193000
DTSTAMP:20260421T162753
CREATED:20180608T063529Z
LAST-MODIFIED:20180608T065341Z
UID:10061765-1536953400-1536953400@altes-kurhaus-aachen.de
SUMMARY:MozArté 2018 - Finalgala
DESCRIPTION:Mit Klavierkonzerten von W. A. Mozart gestalten die diesjährigen Finalisten des hochdotierten 13. „International Piano Competition Aachen MozArtè“ zusammen mit dem Sinfonieorchester Aachen das große Galakonzert. \nIn diesem Jahr feiert der „International Piano Competition Aachen MozArté“ sein 14 jähriges Bestehen. Dieser Klavierwettbewerb wurde vom Mozartè e.V. in Kooperation mit der Musikschule Aachen ins Leben gerufen sowie von zahlreichen Sponsoren und Freunden unterstützt. \nFoto: Veranstalter
URL:https://altes-kurhaus-aachen.de/veranstaltung/mozarte-2017-finalgala-2/
LOCATION:Ballsaal\, Komphausbadstr. 19\, Aachen\, NRW\, 52062\, Deutschland
CATEGORIES:Konzert
ORGANIZER;CN="MozArte e.V.":MAILTO:info@mozarte-aachen.com
END:VEVENT
BEGIN:VEVENT
DTSTART;TZID=Europe/Helsinki:20170915T193000
DTEND;TZID=Europe/Helsinki:20170915T193000
DTSTAMP:20260421T162753
CREATED:20170531T103313Z
LAST-MODIFIED:20170531T103313Z
UID:10039715-1505503800-1505503800@altes-kurhaus-aachen.de
SUMMARY:MozArté 2017 - Finalgala
DESCRIPTION:Mit Klavierkonzerten von W. A. Mozart gestalten die diesjährigen Finalisten des hochdotierten 13. „International Piano Competition Aachen MozArtè“ zusammen mit dem Sinfonieorchester Aachen das große Galakonzert. \nIn diesem Jahr feiert der „International Piano Competition Aachen MozArté“ sein 13jähriges Bestehen. Dieser Klavierwettbewerb wurde vom Mozartè e.V. in Kooperation mit der Musikschule Aachen ins Leben gerufen sowie von zahlreichen Sponsoren und Freunden unterstützt. \nFoto: Veranstalter
URL:https://altes-kurhaus-aachen.de/veranstaltung/mozarte-2017-finalgala/
LOCATION:Ballsaal\, Komphausbadstr. 19\, Aachen\, NRW\, 52062\, Deutschland
CATEGORIES:Konzert
ORGANIZER;CN="MozArte e.V.":MAILTO:info@mozarte-aachen.com
END:VEVENT
END:VCALENDAR